BEGIN:VCALENDAR
VERSION:2.0
PRODID:-//Paseo de las Flores - ECPv6.15.20//NONSGML v1.0//EN
CALSCALE:GREGORIAN
METHOD:PUBLISH
X-WR-CALNAME:Paseo de las Flores
X-ORIGINAL-URL:https://paseodelasflores.com
X-WR-CALDESC:Eventos para Paseo de las Flores
REFRESH-INTERVAL;VALUE=DURATION:PT1H
X-Robots-Tag:noindex
X-PUBLISHED-TTL:PT1H
BEGIN:VTIMEZONE
TZID:America/Chicago
BEGIN:DAYLIGHT
TZOFFSETFROM:-0600
TZOFFSETTO:-0500
TZNAME:CDT
DTSTART:20240310T080000
END:DAYLIGHT
BEGIN:STANDARD
TZOFFSETFROM:-0500
TZOFFSETTO:-0600
TZNAME:CST
DTSTART:20241103T070000
END:STANDARD
BEGIN:DAYLIGHT
TZOFFSETFROM:-0600
TZOFFSETTO:-0500
TZNAME:CDT
DTSTART:20250309T080000
END:DAYLIGHT
BEGIN:STANDARD
TZOFFSETFROM:-0500
TZOFFSETTO:-0600
TZNAME:CST
DTSTART:20251102T070000
END:STANDARD
BEGIN:DAYLIGHT
TZOFFSETFROM:-0600
TZOFFSETTO:-0500
TZNAME:CDT
DTSTART:20260308T080000
END:DAYLIGHT
BEGIN:STANDARD
TZOFFSETFROM:-0500
TZOFFSETTO:-0600
TZNAME:CST
DTSTART:20261101T070000
END:STANDARD
END:VTIMEZONE
BEGIN:VEVENT
DTSTART;TZID=America/Chicago:20251025T140000
DTEND;TZID=America/Chicago:20251025T170000
DTSTAMP:20260419T143002
CREATED:20251024T204324Z
LAST-MODIFIED:20251024T204514Z
UID:19248-1761400800-1761411600@paseodelasflores.com
SUMMARY:Paseo Encantado
DESCRIPTION:🎃 ¡Vive la magia de Halloween en Paseo de las Flores! 👻 \nEste 25 de octubre\, te invitamos a disfrutar de una experiencia mágica en nuestro “Paseo Encantado”\, un evento lleno de diversión\, dulzura y sorpresas para toda la familia. \n🕒 Horario: De 2:00 p.m. a 5:00 p.m.📍 Lugar: Pasillos del Centro Comercial \nVen y disfruta de:🍬 Ruta de dulces🎨 Talleres creativos✨ Personajes encantados \n¡No te pierdas esta oportunidad de vivir un Halloween inolvidable en Paseo de las Flores!Te esperamos con toda la diversión y un ambiente lleno de fantasía.
URL:https://paseodelasflores.com/eventos/paseo-encantado/
CATEGORIES:Actividades de fin de semana,Hallowen
ATTACH;FMTTYPE=image/png:https://paseodelasflores.com/wp-content/uploads/2025/10/Historia.png
END:VEVENT
BEGIN:VEVENT
DTSTART;TZID=America/Chicago:20251025T180000
DTEND;TZID=America/Chicago:20251025T180000
DTSTAMP:20260419T143002
CREATED:20251024T204812Z
LAST-MODIFIED:20251024T204812Z
UID:19255-1761415200-1761415200@paseodelasflores.com
SUMMARY:Velada Tributo Queen
DESCRIPTION:🌟 Velada Especial: Queen con Ed Quesada 🎶 \n¡Prepárate para una noche inolvidable en Paseo de las Flores!Este sábado 25 de octubre\, revive los grandes éxitos de Queen en una presentación llena de energía\, talento y nostalgia\, con la interpretación especial de Ed Quesada. \n🎤 Fecha: Sábado 25 de octubre🕕 Hora: A partir de las 6:00 p.m.📍 Lugar: Fortín principal \nDisfruta de una velada mágica con los clásicos que marcaron generaciones\, interpretados con toda la pasión y fuerza que caracterizan a esta legendaria banda. \n💫 ¡Ven con tus amigos y familiares a vivir una experiencia musical única bajo las estrellas!
URL:https://paseodelasflores.com/eventos/velada-tributo-queen/
CATEGORIES:Actividades de fin de semana,Velada
ATTACH;FMTTYPE=image/png:https://paseodelasflores.com/wp-content/uploads/2025/10/Historia-1.png
END:VEVENT
BEGIN:VEVENT
DTSTART;TZID=America/Chicago:20251026T140000
DTEND;TZID=America/Chicago:20251026T170000
DTSTAMP:20260419T143002
CREATED:20251024T204446Z
LAST-MODIFIED:20251024T204446Z
UID:19253-1761487200-1761498000@paseodelasflores.com
SUMMARY:Paseo Encantado
DESCRIPTION:🎃 ¡Vive la magia de Halloween en Paseo de las Flores! 👻 \nEste 26 de octubre\, te invitamos a disfrutar de una experiencia mágica en nuestro “Paseo Encantado”\, un evento lleno de diversión\, dulzura y sorpresas para toda la familia. \n🕒 Horario: De 2:00 p.m. a 5:00 p.m.📍 Lugar: Pasillos del Centro Comercial \nVen y disfruta de:🍬 Ruta de dulces🎨 Talleres creativos✨ Personajes encantados \n¡No te pierdas esta oportunidad de vivir un Halloween inolvidable en Paseo de las Flores!Te esperamos con toda la diversión y un ambiente lleno de fantasía.
URL:https://paseodelasflores.com/eventos/paseo-encantado-2/
CATEGORIES:Actividades de fin de semana,Hallowen
ATTACH;FMTTYPE=image/png:https://paseodelasflores.com/wp-content/uploads/2025/10/Historia.png
END:VEVENT
END:VCALENDAR