BEGIN:VCALENDAR
VERSION:2.0
PRODID:-//Paseo de las Flores - ECPv6.15.20//NONSGML v1.0//EN
CALSCALE:GREGORIAN
METHOD:PUBLISH
X-WR-CALNAME:Paseo de las Flores
X-ORIGINAL-URL:https://paseodelasflores.com
X-WR-CALDESC:Eventos para Paseo de las Flores
REFRESH-INTERVAL;VALUE=DURATION:PT1H
X-Robots-Tag:noindex
X-PUBLISHED-TTL:PT1H
BEGIN:VTIMEZONE
TZID:America/Chicago
BEGIN:DAYLIGHT
TZOFFSETFROM:-0600
TZOFFSETTO:-0500
TZNAME:CDT
DTSTART:20240310T080000
END:DAYLIGHT
BEGIN:STANDARD
TZOFFSETFROM:-0500
TZOFFSETTO:-0600
TZNAME:CST
DTSTART:20241103T070000
END:STANDARD
BEGIN:DAYLIGHT
TZOFFSETFROM:-0600
TZOFFSETTO:-0500
TZNAME:CDT
DTSTART:20250309T080000
END:DAYLIGHT
BEGIN:STANDARD
TZOFFSETFROM:-0500
TZOFFSETTO:-0600
TZNAME:CST
DTSTART:20251102T070000
END:STANDARD
BEGIN:DAYLIGHT
TZOFFSETFROM:-0600
TZOFFSETTO:-0500
TZNAME:CDT
DTSTART:20260308T080000
END:DAYLIGHT
BEGIN:STANDARD
TZOFFSETFROM:-0500
TZOFFSETTO:-0600
TZNAME:CST
DTSTART:20261101T070000
END:STANDARD
END:VTIMEZONE
BEGIN:VEVENT
DTSTART;TZID=America/Chicago:20250809T140000
DTEND;TZID=America/Chicago:20250809T180000
DTSTAMP:20260419T180619
CREATED:20250808T000216Z
LAST-MODIFIED:20250808T000216Z
UID:19072-1754748000-1754762400@paseodelasflores.com
SUMMARY:Lo que no sabemos de mama
DESCRIPTION:Existen muchas facetas que no conocemos de mamá\, sus hobbies\, comida o color favorito\, o simplemente ese regalo perfecto que le encantaría recibir este Día de las Madres. \n\n\nPor eso en Paseo te ayudamos a conocerla mejor\, y a regalarle momentos inolvidables. \n\n\nVení con mama y disfutá este sábado 9 de agosto de las increíbles Beauty Stations en la Rotonda Lirio donde podrás recibir asesorías de colorimetria\, perfumería\, maquillaje y skincare.\nTambién podrás disfrutar de una pasarela de moda en tercera etapa frente a Ambacar junto con tu mama.\n¡Te esperamos!🤩
URL:https://paseodelasflores.com/eventos/loquenosabemosdemama/
CATEGORIES:Actividad del dia de la madre,Actividades de fin de semana
ATTACH;FMTTYPE=image/png:https://paseodelasflores.com/wp-content/uploads/2025/08/Historia.png
END:VEVENT
BEGIN:VEVENT
DTSTART;TZID=America/Chicago:20250810T140000
DTEND;TZID=America/Chicago:20250810T180000
DTSTAMP:20260419T180619
CREATED:20250808T000300Z
LAST-MODIFIED:20250808T000348Z
UID:19075-1754834400-1754848800@paseodelasflores.com
SUMMARY:Lo que no sabemos de mama
DESCRIPTION:Existen muchas facetas que no conocemos de mamá\, sus hobbies\, comida o color favorito\, o simplemente ese regalo perfecto que le encantaría recibir este Día de las Madres. \n\n\nPor eso en Paseo te ayudamos a conocerla mejor\, y a regalarle momentos inolvidables. \n\n\nVení con mama y disfutá este domingo 10 de agosto de las increíbles Beauty Stations en la Rotonda Lirio donde podrás recibir asesorías de colorimetria\, perfumería\, maquillaje y skincare.\nTambién podrás disfrutar de una pasarela de moda en tercera etapa frente a Ambacar junto con tu mama.\n¡Te esperamos!🤩
URL:https://paseodelasflores.com/eventos/lo-que-no-sabemos-de-mama/
CATEGORIES:Actividad del dia de la madre,Actividades de fin de semana
ATTACH;FMTTYPE=image/png:https://paseodelasflores.com/wp-content/uploads/2025/08/Historia.png
END:VEVENT
BEGIN:VEVENT
DTSTART;TZID=America/Chicago:20250816T170000
DTEND;TZID=America/Chicago:20250816T203000
DTSTAMP:20260419T180619
CREATED:20250814T205955Z
LAST-MODIFIED:20250814T205955Z
UID:19104-1755363600-1755376200@paseodelasflores.com
SUMMARY:Lo que no sabemos de mama
DESCRIPTION:Existen muchas facetas que no conocemos de mamá\, sus hobbies\, comida o color favorito\, o simplemente ese regalo perfecto que le encantaría recibir este Día de las Madres. \n\n\nPor eso en Paseo te ayudamos a conocerla mejor\, y a regalarle momentos inolvidables. \n🎨 Vení este sábado 16 de agosto de 5:00 p.m. a 6:30 p.m. y de 7:00 p.m. a 8:30 p.m.\, en la zona de restaurantes y dejemos que los colores hablen y el amor de mamá inspire cada pincelada. ¡Pinta con el corazón al lado de quien te enseñó a soñar!💖 🖌️\n¡Te esperamos!🤩
URL:https://paseodelasflores.com/eventos/lo-que-no-sabemos-de-mama-2/
CATEGORIES:Actividad del dia de la madre,Actividades de fin de semana
ATTACH;FMTTYPE=image/png:https://paseodelasflores.com/wp-content/uploads/2025/08/Historia.png
END:VEVENT
BEGIN:VEVENT
DTSTART;TZID=America/Chicago:20250817T170000
DTEND;TZID=America/Chicago:20250817T203000
DTSTAMP:20260419T180619
CREATED:20250814T210041Z
LAST-MODIFIED:20250814T210041Z
UID:19106-1755450000-1755462600@paseodelasflores.com
SUMMARY:Lo que no sabemos de mama
DESCRIPTION:Existen muchas facetas que no conocemos de mamá\, sus hobbies\, comida o color favorito\, o simplemente ese regalo perfecto que le encantaría recibir este Día de las Madres. \n\n\nPor eso en Paseo te ayudamos a conocerla mejor\, y a regalarle momentos inolvidables. \n🎨 Vení este domingo 17 de agosto de 5:00 p.m. a 6:30 p.m. y de 7:00 p.m. a 8:30 p.m.\, en la zona de restaurantes y dejemos que los colores hablen y el amor de mamá inspire cada pincelada. ¡Pinta con el corazón al lado de quien te enseñó a soñar!💖 🖌️\n¡Te esperamos!🤩
URL:https://paseodelasflores.com/eventos/lo-que-no-sabemos-de-mama-3/
CATEGORIES:Actividad del dia de la madre,Actividades de fin de semana
ATTACH;FMTTYPE=image/png:https://paseodelasflores.com/wp-content/uploads/2025/08/Historia.png
END:VEVENT
BEGIN:VEVENT
DTSTART;TZID=America/Chicago:20250823T140000
DTEND;TZID=America/Chicago:20250823T180000
DTSTAMP:20260419T180619
CREATED:20250822T231311Z
LAST-MODIFIED:20250822T231311Z
UID:19118-1755957600-1755972000@paseodelasflores.com
SUMMARY:Lo que no sabemos de mama
DESCRIPTION:Existen muchas facetas que no conocemos de mamá\, sus hobbies\, comida o color favorito\, o simplemente ese regalo perfecto que le encantaría recibir este Día de las Madres. \n\n\nPor eso en Paseo te ayudamos a conocerla mejor\, y a regalarle momentos inolvidables. \n\nVení con mama y disfutá este sábado 23 de agosto de las increíbles Beauty Stations en la Rotonda Lirio donde podrás recibir asesorías de colorimetria\, perfumería\, maquillaje y skincare.\n\n¡Te esperamos!🤩
URL:https://paseodelasflores.com/eventos/lo-que-no-sabemos-de-mama-4/
CATEGORIES:Actividad del dia de la madre,Actividades de fin de semana
ATTACH;FMTTYPE=image/png:https://paseodelasflores.com/wp-content/uploads/2025/08/Historia-1.png
END:VEVENT
BEGIN:VEVENT
DTSTART;TZID=America/Chicago:20250824T140000
DTEND;TZID=America/Chicago:20250824T203000
DTSTAMP:20260419T180619
CREATED:20250822T231919Z
LAST-MODIFIED:20250822T231919Z
UID:19121-1756044000-1756067400@paseodelasflores.com
SUMMARY:Lo que no sabemos de mama
DESCRIPTION:Existen muchas facetas que no conocemos de mamá\, sus hobbies\, comida o color favorito\, o simplemente ese regalo perfecto que le encantaría recibir este Día de las Madres. \n\n\nPor eso en Paseo te ayudamos a conocerla mejor\, y a regalarle momentos inolvidables. \n\nDisfruta con mamá este domingo 24 de agosto de las increíbles Beauty Stations en la Rotonda Lirio donde podrás recibir asesorías de colorimetria\, perfumería\, maquillaje y skincare. \n\n🎨 Ten una tarde con mama única en la zona de restaurantes y dejemos que los colores hablen y el amor de mamá inspire cada pincelada. ¡Pinta con el corazón al lado de quien te enseñó a soñar!💖 🖌️
URL:https://paseodelasflores.com/eventos/lo-que-no-sabemos-de-mama-5/
CATEGORIES:Actividad del dia de la madre,Actividades de fin de semana
ATTACH;FMTTYPE=image/png:https://paseodelasflores.com/wp-content/uploads/2025/08/Historia-1.png
END:VEVENT
END:VCALENDAR