BEGIN:VCALENDAR
VERSION:2.0
PRODID:-//Paseo de las Flores - ECPv6.15.20//NONSGML v1.0//EN
CALSCALE:GREGORIAN
METHOD:PUBLISH
X-WR-CALNAME:Paseo de las Flores
X-ORIGINAL-URL:https://paseodelasflores.com
X-WR-CALDESC:Eventos para Paseo de las Flores
REFRESH-INTERVAL;VALUE=DURATION:PT1H
X-Robots-Tag:noindex
X-PUBLISHED-TTL:PT1H
BEGIN:VTIMEZONE
TZID:America/Chicago
BEGIN:DAYLIGHT
TZOFFSETFROM:-0600
TZOFFSETTO:-0500
TZNAME:CDT
DTSTART:20250309T080000
END:DAYLIGHT
BEGIN:STANDARD
TZOFFSETFROM:-0500
TZOFFSETTO:-0600
TZNAME:CST
DTSTART:20251102T070000
END:STANDARD
BEGIN:DAYLIGHT
TZOFFSETFROM:-0600
TZOFFSETTO:-0500
TZNAME:CDT
DTSTART:20260308T080000
END:DAYLIGHT
BEGIN:STANDARD
TZOFFSETFROM:-0500
TZOFFSETTO:-0600
TZNAME:CST
DTSTART:20261101T070000
END:STANDARD
BEGIN:DAYLIGHT
TZOFFSETFROM:-0600
TZOFFSETTO:-0500
TZNAME:CDT
DTSTART:20270314T080000
END:DAYLIGHT
BEGIN:STANDARD
TZOFFSETFROM:-0500
TZOFFSETTO:-0600
TZNAME:CST
DTSTART:20271107T070000
END:STANDARD
END:VTIMEZONE
BEGIN:VEVENT
DTSTART;TZID=America/Chicago:20260425T140000
DTEND;TZID=America/Chicago:20260425T170000
DTSTAMP:20260424T062813
CREATED:20260423T212752Z
LAST-MODIFIED:20260423T212752Z
UID:19486-1777125600-1777136400@paseodelasflores.com
SUMMARY:Cuentos por Leer 📚✨
DESCRIPTION:Este 25 de abril 📅 te invitamos a vivir una tarde mágica en Paseo de las Flores con “Cuentos por Leer” 📚✨ \nDe 2:00 p.m. a 5:00 p.m. ⏰ preparamos un espacio pensado para que disfrutés en familia\, despertés tu imaginación y te reencontrés con el encanto de las historias. \nVas a encontrar:🎒 Zona de lectura🧚‍♀️ Personajes invitados🎨 Pintacaritas📸 Photobooth📖 Cuenta cuentos en vivo \nEs una actividad ideal para que los más pequeños se enamoren de la lectura y para que los grandes vuelvan a sentirse niños por un rato 💛 \nTe esperamos para compartir cuentos\, sonrisas y momentos inolvidables en Paseo de las Flores.
URL:https://paseodelasflores.com/eventos/cuentos-por-leer-%f0%9f%93%9a%e2%9c%a8/
CATEGORIES:Actividades de fin de semana
ATTACH;FMTTYPE=image/png:https://paseodelasflores.com/wp-content/uploads/2026/04/Historia.png
END:VEVENT
END:VCALENDAR