BEGIN:VCALENDAR
VERSION:2.0
PRODID:-//Paseo de las Flores - ECPv6.15.20//NONSGML v1.0//EN
CALSCALE:GREGORIAN
METHOD:PUBLISH
X-WR-CALNAME:Paseo de las Flores
X-ORIGINAL-URL:https://paseodelasflores.com
X-WR-CALDESC:Eventos para Paseo de las Flores
REFRESH-INTERVAL;VALUE=DURATION:PT1H
X-Robots-Tag:noindex
X-PUBLISHED-TTL:PT1H
BEGIN:VTIMEZONE
TZID:America/Chicago
BEGIN:DAYLIGHT
TZOFFSETFROM:-0600
TZOFFSETTO:-0500
TZNAME:CDT
DTSTART:20240310T080000
END:DAYLIGHT
BEGIN:STANDARD
TZOFFSETFROM:-0500
TZOFFSETTO:-0600
TZNAME:CST
DTSTART:20241103T070000
END:STANDARD
BEGIN:DAYLIGHT
TZOFFSETFROM:-0600
TZOFFSETTO:-0500
TZNAME:CDT
DTSTART:20250309T080000
END:DAYLIGHT
BEGIN:STANDARD
TZOFFSETFROM:-0500
TZOFFSETTO:-0600
TZNAME:CST
DTSTART:20251102T070000
END:STANDARD
BEGIN:DAYLIGHT
TZOFFSETFROM:-0600
TZOFFSETTO:-0500
TZNAME:CDT
DTSTART:20260308T080000
END:DAYLIGHT
BEGIN:STANDARD
TZOFFSETFROM:-0500
TZOFFSETTO:-0600
TZNAME:CST
DTSTART:20261101T070000
END:STANDARD
END:VTIMEZONE
BEGIN:VEVENT
DTSTART;TZID=America/Chicago:20250705T150000
DTEND;TZID=America/Chicago:20250705T180000
DTSTAMP:20260419T201108
CREATED:20250704T191205Z
LAST-MODIFIED:20250708T205752Z
UID:18918-1751727600-1751738400@paseodelasflores.com
SUMMARY:Huellas del Pasado
DESCRIPTION:🦖 Si sos fan de los dinosaurios\, no te podés perder nuestras actividades para estas vacaciones.\n¡Visítanos en familia y no te perdás de esta experiencia! 🌳🦕\n🦖 Exhibición de 5 dinosaurios mecatrónicos este sábado 5 de julio 2025 los cuáles podrás venir a disfrutar de ellos y vivir una experiencia del pasado\n🔎Con un guía de exploración que con sus conocimientos te transportará a la era de los dinosaurios.\n🎨 Vení y disfrutá de nuestros talleres con solo presentar una factura de compra mínima de ₡5000 \nSíguenos en redes sociales para más sorpresas.
URL:https://paseodelasflores.com/eventos/huellas-del-pasado/
CATEGORIES:Actividades de fin de semana
ATTACH;FMTTYPE=image/png:https://paseodelasflores.com/wp-content/uploads/2025/07/Post-FB.png
END:VEVENT
END:VCALENDAR