BEGIN:VCALENDAR
VERSION:2.0
PRODID:-//Paseo de las Flores - ECPv6.15.20//NONSGML v1.0//EN
CALSCALE:GREGORIAN
METHOD:PUBLISH
X-WR-CALNAME:Paseo de las Flores
X-ORIGINAL-URL:https://paseodelasflores.com
X-WR-CALDESC:Eventos para Paseo de las Flores
REFRESH-INTERVAL;VALUE=DURATION:PT1H
X-Robots-Tag:noindex
X-PUBLISHED-TTL:PT1H
BEGIN:VTIMEZONE
TZID:America/Chicago
BEGIN:DAYLIGHT
TZOFFSETFROM:-0600
TZOFFSETTO:-0500
TZNAME:CDT
DTSTART:20240310T080000
END:DAYLIGHT
BEGIN:STANDARD
TZOFFSETFROM:-0500
TZOFFSETTO:-0600
TZNAME:CST
DTSTART:20241103T070000
END:STANDARD
BEGIN:DAYLIGHT
TZOFFSETFROM:-0600
TZOFFSETTO:-0500
TZNAME:CDT
DTSTART:20250309T080000
END:DAYLIGHT
BEGIN:STANDARD
TZOFFSETFROM:-0500
TZOFFSETTO:-0600
TZNAME:CST
DTSTART:20251102T070000
END:STANDARD
BEGIN:DAYLIGHT
TZOFFSETFROM:-0600
TZOFFSETTO:-0500
TZNAME:CDT
DTSTART:20260308T080000
END:DAYLIGHT
BEGIN:STANDARD
TZOFFSETFROM:-0500
TZOFFSETTO:-0600
TZNAME:CST
DTSTART:20261101T070000
END:STANDARD
END:VTIMEZONE
BEGIN:VEVENT
DTSTART;TZID=America/Chicago:20250301T150000
DTEND;TZID=America/Chicago:20250301T180000
DTSTAMP:20260420T011407
CREATED:20250221T203506Z
LAST-MODIFIED:20250227T153858Z
UID:18761-1740841200-1740852000@paseodelasflores.com
SUMMARY:El Mundo de Barbie
DESCRIPTION:💄¡El Mundo de Barbie\, llega Paseo!💄 \nEste 1\,2\,8 y 9 de marzo de 3:00 p.m. a 6:00 p.m.\, vení a ser parte de un recorrido de empoderamiento y experiencia diferente en un mundo único. \n📍Rotonda Tulipan\nCrea tu pulsera | Glitter Make Up | Peinados Barbie \n📍Rotonda Ekono\nPhotobooth \n📍Rotonda Girasol\nClases de Karate \n📍Rotonda Gollo\nCarro Barbie \nTe esperamos. \nPatrocina: Super Salon y Toys
URL:https://paseodelasflores.com/eventos/el-mundo-de-barbie/
CATEGORIES:Actividades de fin de semana
ATTACH;FMTTYPE=image/png:https://paseodelasflores.com/wp-content/uploads/2025/02/Post-FB-5.png
END:VEVENT
BEGIN:VEVENT
DTSTART;TZID=America/Chicago:20250302T150000
DTEND;TZID=America/Chicago:20250302T180000
DTSTAMP:20260420T011407
CREATED:20250221T203608Z
LAST-MODIFIED:20250227T153948Z
UID:18764-1740927600-1740938400@paseodelasflores.com
SUMMARY:El Mundo de Barbie
DESCRIPTION:💄¡El Mundo de Barbie\, llega Paseo!💄 \nEste 1\,2\,8 y 9 de marzo de 3:00 p.m. a 6:00 p.m.\, vení a ser parte de un recorrido de empoderamiento y experiencia diferente en un mundo único. \n📍Rotonda Tulipan\nCrea tu pulsera | Glitter Make Up | Peinados Barbie \n📍Rotonda Ekono\nPhotobooth \n📍Rotonda Girasol\nClases de Karate \n📍Rotonda Gollo\nCarro Barbie \nTe esperamos. \nPatrocina: Super Salon y Toys
URL:https://paseodelasflores.com/eventos/el-mundo-de-barbie-2/
CATEGORIES:Actividades de fin de semana
ATTACH;FMTTYPE=image/png:https://paseodelasflores.com/wp-content/uploads/2025/02/Post-FB-5.png
END:VEVENT
BEGIN:VEVENT
DTSTART;TZID=America/Chicago:20250308T150000
DTEND;TZID=America/Chicago:20250308T180000
DTSTAMP:20260420T011407
CREATED:20250221T203648Z
LAST-MODIFIED:20250227T153541Z
UID:18766-1741446000-1741456800@paseodelasflores.com
SUMMARY:El Mundo de Barbie
DESCRIPTION:💄¡El Mundo de Barbie\, llega Paseo!💄 \nEste 1\,2\,8 y 9 de marzo de 3:00 p.m. a 6:00 p.m.\, vení a ser parte de un recorrido de empoderamiento y experiencia diferente en un mundo único. \n📍Rotonda Tulipan\nCrea tu pulsera | Glitter Make Up | Peinados Barbie \n📍Rotonda Ekono\nPhotobooth \n📍Rotonda Girasol\nClases de Karate \n📍Rotonda Gollo\nCarro Barbie \nTe esperamos. \nPatrocina: Super Salon y Toys
URL:https://paseodelasflores.com/eventos/el-mundo-de-barbie-3/
CATEGORIES:Actividades de fin de semana
ATTACH;FMTTYPE=image/png:https://paseodelasflores.com/wp-content/uploads/2025/02/Post-FB-5.png
END:VEVENT
BEGIN:VEVENT
DTSTART;TZID=America/Chicago:20250309T150000
DTEND;TZID=America/Chicago:20250309T180000
DTSTAMP:20260420T011407
CREATED:20250221T203821Z
LAST-MODIFIED:20250227T152538Z
UID:18768-1741532400-1741543200@paseodelasflores.com
SUMMARY:El Mundo de Barbie
DESCRIPTION:💄¡El Mundo de Barbie\, llega Paseo!💄 \nEste 1\,2\,8 y 9 de marzo de 3:00 p.m. a 6:00 p.m.\, vení a ser parte de un recorrido de empoderamiento y experiencia diferente en un mundo único. \n📍Rotonda Tulipan\nCrea tu pulsera | Glitter Make Up | Peinados Barbie \n📍Rotonda Ekono\nPhotobooth \n📍Rotonda Girasol\nClases de Karate \n📍Rotonda Gollo\nCarro Barbie \nTe esperamos. \nPatrocina: Super Salon y Toys
URL:https://paseodelasflores.com/eventos/el-mundo-de-barbie-4/
CATEGORIES:Actividades de fin de semana
ATTACH;FMTTYPE=image/png:https://paseodelasflores.com/wp-content/uploads/2025/02/Post-FB-5.png
END:VEVENT
BEGIN:VEVENT
DTSTART;TZID=America/Chicago:20250314T150000
DTEND;TZID=America/Chicago:20250316T180000
DTSTAMP:20260420T011407
CREATED:20250221T232240Z
LAST-MODIFIED:20250221T234707Z
UID:18773-1741964400-1742148000@paseodelasflores.com
SUMMARY:ExpoPatitas
DESCRIPTION:ExpoPatitas te espera con muchas actividades para que aprendás y cuidés a tus mascotas como se merecen. 🐶🥰 \n🗓️ 14\, 15 y 16 de marzo. \nViernes 14 de marzo \, 2025 \n11:00 a.m. a 08:00 p.m. | Stands Expo Patitas\n11:00 a.m. a 08:00 p.m. | Parque Canino\, Kolbi\n‌\nSábado 15 de marzo\, 2025 \n11:00 a.m. a 08:00 p.m. | Stands Expo Patitas\n11:00 a.m. a 08:00 p.m. | Parque Canino\, Kolbi\n01:00 p.m. a 03:00 p.m. | Concurso mascotas\, mejor vestida\, disfrazada\, truco \nCentro de Mascotas El Delfín\n03:00 p.m. a 05:00 p.m. |Pasarela de Razas \n05:00 p.m. a 06:00 p.m. |Pasarela Zaguaticos \n‌\nDomingo 16 de marzo\, 2025 \n07:00 a.m. a 05:00 p.m. | Campaña de Castración y Desparasitación\n11:00 a.m. a 08:00 p.m. |  Stands Expo Patitas\n11:00 a.m. a 06:00 p.m. | Campaña de Adopción \, a cargo  Asoc.Rescatista\,soy\n11:00 a.m. a 08:00 p.m. | Parque Canino\, Kolbi\n01:00 p.m. a 03:00 p.m. | Concurso mascotas\, mejor vestida\, disfrazada\, truco \nPatrocina Centro de Mascotas El Delfín\n03:00 p.m. a 05:00 p.m. | Pasarela de Razas \n05:00 p.m. a 06:00 p.m. | Pasarela perros en adopción 
URL:https://paseodelasflores.com/eventos/el-mundo-de-barbie-5/
CATEGORIES:Actividades de fin de semana
ATTACH;FMTTYPE=image/png:https://paseodelasflores.com/wp-content/uploads/2025/02/Post.png
END:VEVENT
END:VCALENDAR