BEGIN:VCALENDAR
VERSION:2.0
PRODID:-//Paseo de las Flores - ECPv6.15.20//NONSGML v1.0//EN
CALSCALE:GREGORIAN
METHOD:PUBLISH
X-WR-CALNAME:Paseo de las Flores
X-ORIGINAL-URL:https://paseodelasflores.com
X-WR-CALDESC:Eventos para Paseo de las Flores
REFRESH-INTERVAL;VALUE=DURATION:PT1H
X-Robots-Tag:noindex
X-PUBLISHED-TTL:PT1H
BEGIN:VTIMEZONE
TZID:America/Chicago
BEGIN:DAYLIGHT
TZOFFSETFROM:-0600
TZOFFSETTO:-0500
TZNAME:CDT
DTSTART:20250309T080000
END:DAYLIGHT
BEGIN:STANDARD
TZOFFSETFROM:-0500
TZOFFSETTO:-0600
TZNAME:CST
DTSTART:20251102T070000
END:STANDARD
BEGIN:DAYLIGHT
TZOFFSETFROM:-0600
TZOFFSETTO:-0500
TZNAME:CDT
DTSTART:20260308T080000
END:DAYLIGHT
BEGIN:STANDARD
TZOFFSETFROM:-0500
TZOFFSETTO:-0600
TZNAME:CST
DTSTART:20261101T070000
END:STANDARD
BEGIN:DAYLIGHT
TZOFFSETFROM:-0600
TZOFFSETTO:-0500
TZNAME:CDT
DTSTART:20270314T080000
END:DAYLIGHT
BEGIN:STANDARD
TZOFFSETFROM:-0500
TZOFFSETTO:-0600
TZNAME:CST
DTSTART:20271107T070000
END:STANDARD
END:VTIMEZONE
BEGIN:VEVENT
DTSTART;TZID=America/Chicago:20260110T110000
DTEND;TZID=America/Chicago:20260110T180000
DTSTAMP:20260419T111540
CREATED:20251215T223840Z
LAST-MODIFIED:20260110T001815Z
UID:19289-1768042800-1768068000@paseodelasflores.com
SUMMARY:Movéte este Verano🏃🏻🤩
DESCRIPTION:¡Movéte con todo este verano en Paseo de las Flores!🏃🏻🤩\nEl verano ya está aquí y en Paseo de las Flores queremos que lo vivás al máximo. No te quedés en casa viendo pasar los días; mejor alistate\, traé a tu familia y vení a disfrutar de un fin de semana cargado de movimiento y sonrisas. \n¡Este sábado 10 de enero\, la cita es con vos!🤩\nDesde las 2:00 p.m. y hasta las 6:00 p.m.\, tenemos preparado un ambiente increíble para que te desconectés de la rutina. Si buscás un plan diferente\, divertido y seguro\, ¡este es el lugar! \n¡Te esperamos para que compartamos un verano lleno de energía y muchísima diversión!🥳
URL:https://paseodelasflores.com/eventos/movete-este-verano/
CATEGORIES:Actividades de fin de semana
ATTACH;FMTTYPE=image/png:https://paseodelasflores.com/wp-content/uploads/2025/12/Historia-1-2.png
END:VEVENT
END:VCALENDAR