BEGIN:VCALENDAR
VERSION:2.0
PRODID:-//Paseo de las Flores - ECPv6.15.20//NONSGML v1.0//EN
CALSCALE:GREGORIAN
METHOD:PUBLISH
X-ORIGINAL-URL:https://paseodelasflores.com
X-WR-CALDESC:Eventos para Paseo de las Flores
REFRESH-INTERVAL;VALUE=DURATION:PT1H
X-Robots-Tag:noindex
X-PUBLISHED-TTL:PT1H
BEGIN:VTIMEZONE
TZID:America/Chicago
BEGIN:DAYLIGHT
TZOFFSETFROM:-0600
TZOFFSETTO:-0500
TZNAME:CDT
DTSTART:20240310T080000
END:DAYLIGHT
BEGIN:STANDARD
TZOFFSETFROM:-0500
TZOFFSETTO:-0600
TZNAME:CST
DTSTART:20241103T070000
END:STANDARD
BEGIN:DAYLIGHT
TZOFFSETFROM:-0600
TZOFFSETTO:-0500
TZNAME:CDT
DTSTART:20250309T080000
END:DAYLIGHT
BEGIN:STANDARD
TZOFFSETFROM:-0500
TZOFFSETTO:-0600
TZNAME:CST
DTSTART:20251102T070000
END:STANDARD
BEGIN:DAYLIGHT
TZOFFSETFROM:-0600
TZOFFSETTO:-0500
TZNAME:CDT
DTSTART:20260308T080000
END:DAYLIGHT
BEGIN:STANDARD
TZOFFSETFROM:-0500
TZOFFSETTO:-0600
TZNAME:CST
DTSTART:20261101T070000
END:STANDARD
END:VTIMEZONE
BEGIN:VEVENT
DTSTART;TZID=America/Chicago:20251213T160000
DTEND;TZID=America/Chicago:20251213T180000
DTSTAMP:20260419T143250
CREATED:20251209T175554Z
LAST-MODIFIED:20251209T175554Z
UID:19265-1765641600-1765648800@paseodelasflores.com
SUMMARY:El Sonido de la Navidad🎄🎵
DESCRIPTION:¡Viví la magia navideña en Paseo de las Flores!🎄🎵Te invitamos a disfrutar nuestro Calendario de Actividades este sabado 13 de diciembre\, con shows y momentos especiales para toda la familia.🤩❄️ \nSábado 13 de diciembre🎄 \n• Bailarinas de ballet — de 4:00 p.m. a 6:00 p.m.🎄🩰 \n¡Vení y disfrutá de un evento gratuito\, lleno de arte\, música y espíritu navideño!🤩✨
URL:https://paseodelasflores.com/eventos/el-sonido-de-la-navidad/
CATEGORIES:Actividades de fin de semana,Sonido de la Navidad
ATTACH;FMTTYPE=image/png:https://paseodelasflores.com/wp-content/uploads/2025/12/Historia-13-y-14-dic.png
END:VEVENT
END:VCALENDAR