BEGIN:VCALENDAR
VERSION:2.0
PRODID:-//Paseo de las Flores - ECPv6.15.20//NONSGML v1.0//EN
CALSCALE:GREGORIAN
METHOD:PUBLISH
X-WR-CALNAME:Paseo de las Flores
X-ORIGINAL-URL:https://paseodelasflores.com
X-WR-CALDESC:Eventos para Paseo de las Flores
REFRESH-INTERVAL;VALUE=DURATION:PT1H
X-Robots-Tag:noindex
X-PUBLISHED-TTL:PT1H
BEGIN:VTIMEZONE
TZID:America/Chicago
BEGIN:DAYLIGHT
TZOFFSETFROM:-0600
TZOFFSETTO:-0500
TZNAME:CDT
DTSTART:20240310T080000
END:DAYLIGHT
BEGIN:STANDARD
TZOFFSETFROM:-0500
TZOFFSETTO:-0600
TZNAME:CST
DTSTART:20241103T070000
END:STANDARD
BEGIN:DAYLIGHT
TZOFFSETFROM:-0600
TZOFFSETTO:-0500
TZNAME:CDT
DTSTART:20250309T080000
END:DAYLIGHT
BEGIN:STANDARD
TZOFFSETFROM:-0500
TZOFFSETTO:-0600
TZNAME:CST
DTSTART:20251102T070000
END:STANDARD
BEGIN:DAYLIGHT
TZOFFSETFROM:-0600
TZOFFSETTO:-0500
TZNAME:CDT
DTSTART:20260308T080000
END:DAYLIGHT
BEGIN:STANDARD
TZOFFSETFROM:-0500
TZOFFSETTO:-0600
TZNAME:CST
DTSTART:20261101T070000
END:STANDARD
END:VTIMEZONE
BEGIN:VEVENT
DTSTART;TZID=America/Chicago:20250824T140000
DTEND;TZID=America/Chicago:20250824T203000
DTSTAMP:20260419T194920
CREATED:20250822T231919Z
LAST-MODIFIED:20250822T231919Z
UID:19121-1756044000-1756067400@paseodelasflores.com
SUMMARY:Lo que no sabemos de mama
DESCRIPTION:Existen muchas facetas que no conocemos de mamá\, sus hobbies\, comida o color favorito\, o simplemente ese regalo perfecto que le encantaría recibir este Día de las Madres. \n\n\nPor eso en Paseo te ayudamos a conocerla mejor\, y a regalarle momentos inolvidables. \n\nDisfruta con mamá este domingo 24 de agosto de las increíbles Beauty Stations en la Rotonda Lirio donde podrás recibir asesorías de colorimetria\, perfumería\, maquillaje y skincare. \n\n🎨 Ten una tarde con mama única en la zona de restaurantes y dejemos que los colores hablen y el amor de mamá inspire cada pincelada. ¡Pinta con el corazón al lado de quien te enseñó a soñar!💖 🖌️
URL:https://paseodelasflores.com/eventos/lo-que-no-sabemos-de-mama-5/
CATEGORIES:Actividad del dia de la madre,Actividades de fin de semana
ATTACH;FMTTYPE=image/png:https://paseodelasflores.com/wp-content/uploads/2025/08/Historia-1.png
END:VEVENT
END:VCALENDAR