BEGIN:VCALENDAR
VERSION:2.0
PRODID:-//Paseo de las Flores - ECPv6.15.20//NONSGML v1.0//EN
CALSCALE:GREGORIAN
METHOD:PUBLISH
X-WR-CALNAME:Paseo de las Flores
X-ORIGINAL-URL:https://paseodelasflores.com
X-WR-CALDESC:Eventos para Paseo de las Flores
REFRESH-INTERVAL;VALUE=DURATION:PT1H
X-Robots-Tag:noindex
X-PUBLISHED-TTL:PT1H
BEGIN:VTIMEZONE
TZID:America/Chicago
BEGIN:DAYLIGHT
TZOFFSETFROM:-0600
TZOFFSETTO:-0500
TZNAME:CDT
DTSTART:20240310T080000
END:DAYLIGHT
BEGIN:STANDARD
TZOFFSETFROM:-0500
TZOFFSETTO:-0600
TZNAME:CST
DTSTART:20241103T070000
END:STANDARD
BEGIN:DAYLIGHT
TZOFFSETFROM:-0600
TZOFFSETTO:-0500
TZNAME:CDT
DTSTART:20250309T080000
END:DAYLIGHT
BEGIN:STANDARD
TZOFFSETFROM:-0500
TZOFFSETTO:-0600
TZNAME:CST
DTSTART:20251102T070000
END:STANDARD
BEGIN:DAYLIGHT
TZOFFSETFROM:-0600
TZOFFSETTO:-0500
TZNAME:CDT
DTSTART:20260308T080000
END:DAYLIGHT
BEGIN:STANDARD
TZOFFSETFROM:-0500
TZOFFSETTO:-0600
TZNAME:CST
DTSTART:20261101T070000
END:STANDARD
END:VTIMEZONE
BEGIN:VEVENT
DTSTART;TZID=America/Chicago:20250713T120000
DTEND;TZID=America/Chicago:20250713T160000
DTSTAMP:20260419T212630
CREATED:20250711T151646Z
LAST-MODIFIED:20250711T151646Z
UID:18951-1752408000-1752422400@paseodelasflores.com
SUMMARY:Final del Mundial de Clubes
DESCRIPTION:¡Viví la Final del Mundial de Clubes en nuestra PANTALLA! ⚽ \nVení con tu familia a disfrutar la final! \nEste domingo 13 de julio 1 p.m\, te esperamos para que disfrutes el partido más esperado del año! \n📍 ¡No te lo podés perder! \nTe esperamos🤩 \n 
URL:https://paseodelasflores.com/eventos/finaldelmundialdeclubes/
CATEGORIES:Actividades de fin de semana
ATTACH;FMTTYPE=image/png:https://paseodelasflores.com/wp-content/uploads/2025/07/Post-FB-1.png
END:VEVENT
BEGIN:VEVENT
DTSTART;TZID=America/Chicago:20250713T130000
DTEND;TZID=America/Chicago:20250713T190000
DTSTAMP:20260419T212630
CREATED:20250711T162942Z
LAST-MODIFIED:20250711T162942Z
UID:18961-1752411600-1752433200@paseodelasflores.com
SUMMARY:Experiencia F1
DESCRIPTION:Motores al máximo\, adrenalina total.🏎️\nLa F1 se vive mejor en Paseo de las Flores. 🏁\nVen este fin de semana en familia y disfruta al máximo.\nTe esperamos!
URL:https://paseodelasflores.com/eventos/experiencia-f1-2/
CATEGORIES:Actividades de fin de semana
ATTACH;FMTTYPE=image/jpeg:https://paseodelasflores.com/wp-content/uploads/2025/07/WhatsApp-Image-2025-07-09-at-10.37.24-AM.jpeg
END:VEVENT
BEGIN:VEVENT
DTSTART;TZID=America/Chicago:20250713T150000
DTEND;TZID=America/Chicago:20250713T180000
DTSTAMP:20260419T212630
CREATED:20250708T201214Z
LAST-MODIFIED:20250708T205908Z
UID:18942-1752418800-1752429600@paseodelasflores.com
SUMMARY:Huellas del Pasado
DESCRIPTION:🦖 Si sos fan de los dinosaurios\, no te podés perder nuestras actividades para estas vacaciones.\n¡Visítanos en familia y no te perdás de esta experiencia! 🌳🦕\n🦖 Exhibición de 5 dinosaurios mecatrónicos este domingo 13 de julio 2025 los cuáles podrás venir a disfrutar de ellos y vivir una experiencia del pasado\n🔎Con un guía de exploración que con sus conocimientos te transportará a la era de los dinosaurios.\n🎨 Vení y disfrutá de nuestros talleres con solo presentar una factura de compra mínima de ₡5000 \nSíguenos en redes sociales para más sorpresas.
URL:https://paseodelasflores.com/eventos/huellas-del-pasado-4/
CATEGORIES:Actividades de fin de semana
ATTACH;FMTTYPE=image/png:https://paseodelasflores.com/wp-content/uploads/2025/07/Post-FB.png
END:VEVENT
END:VCALENDAR