BEGIN:VCALENDAR
VERSION:2.0
PRODID:-//Paseo de las Flores - ECPv6.15.20//NONSGML v1.0//EN
CALSCALE:GREGORIAN
METHOD:PUBLISH
X-ORIGINAL-URL:https://paseodelasflores.com
X-WR-CALDESC:Eventos para Paseo de las Flores
REFRESH-INTERVAL;VALUE=DURATION:PT1H
X-Robots-Tag:noindex
X-PUBLISHED-TTL:PT1H
BEGIN:VTIMEZONE
TZID:America/Chicago
BEGIN:DAYLIGHT
TZOFFSETFROM:-0600
TZOFFSETTO:-0500
TZNAME:CDT
DTSTART:20240310T080000
END:DAYLIGHT
BEGIN:STANDARD
TZOFFSETFROM:-0500
TZOFFSETTO:-0600
TZNAME:CST
DTSTART:20241103T070000
END:STANDARD
BEGIN:DAYLIGHT
TZOFFSETFROM:-0600
TZOFFSETTO:-0500
TZNAME:CDT
DTSTART:20250309T080000
END:DAYLIGHT
BEGIN:STANDARD
TZOFFSETFROM:-0500
TZOFFSETTO:-0600
TZNAME:CST
DTSTART:20251102T070000
END:STANDARD
BEGIN:DAYLIGHT
TZOFFSETFROM:-0600
TZOFFSETTO:-0500
TZNAME:CDT
DTSTART:20260308T080000
END:DAYLIGHT
BEGIN:STANDARD
TZOFFSETFROM:-0500
TZOFFSETTO:-0600
TZNAME:CST
DTSTART:20261101T070000
END:STANDARD
END:VTIMEZONE
BEGIN:VEVENT
DTSTART;TZID=America/Chicago:20250412T150000
DTEND;TZID=America/Chicago:20250413T170000
DTSTAMP:20260420T025232
CREATED:20250320T233817Z
LAST-MODIFIED:20250320T233817Z
UID:18789-1744470000-1744563600@paseodelasflores.com
SUMMARY:Easter time
DESCRIPTION:¡Easter time! Es mes de abril preparate para celebrar pascua en Paseo\, te esperamos con muchas actividades. \n🗓️ 12\, 13 – 19\, 20 de abril. \nActvidades y horarios: \n03:00 p.m. a 05:00 p.m. | Minigolf\n03:00 p.m. a 05:00 p.m. | Talleres de pascua\n03:00 p.m. a 05:00 p.m. | Photobooth\n03:00 p.m. a 05:00 p.m. | Egg hunt \n*Presentá tu factura de ¢5000 de compra en cualquier de nuestros comercios para participar. \nPatrocina: Toys
URL:https://paseodelasflores.com/eventos/easter-time/
CATEGORIES:Actividades de fin de semana
ATTACH;FMTTYPE=image/png:https://paseodelasflores.com/wp-content/uploads/2025/03/Post-FB.png
END:VEVENT
END:VCALENDAR