BEGIN:VCALENDAR
VERSION:2.0
PRODID:-//Paseo de las Flores - ECPv6.15.20//NONSGML v1.0//EN
CALSCALE:GREGORIAN
METHOD:PUBLISH
X-ORIGINAL-URL:https://paseodelasflores.com
X-WR-CALDESC:Eventos para Paseo de las Flores
REFRESH-INTERVAL;VALUE=DURATION:PT1H
X-Robots-Tag:noindex
X-PUBLISHED-TTL:PT1H
BEGIN:VTIMEZONE
TZID:America/Chicago
BEGIN:DAYLIGHT
TZOFFSETFROM:-0600
TZOFFSETTO:-0500
TZNAME:CDT
DTSTART:20240310T080000
END:DAYLIGHT
BEGIN:STANDARD
TZOFFSETFROM:-0500
TZOFFSETTO:-0600
TZNAME:CST
DTSTART:20241103T070000
END:STANDARD
BEGIN:DAYLIGHT
TZOFFSETFROM:-0600
TZOFFSETTO:-0500
TZNAME:CDT
DTSTART:20250309T080000
END:DAYLIGHT
BEGIN:STANDARD
TZOFFSETFROM:-0500
TZOFFSETTO:-0600
TZNAME:CST
DTSTART:20251102T070000
END:STANDARD
BEGIN:DAYLIGHT
TZOFFSETFROM:-0600
TZOFFSETTO:-0500
TZNAME:CDT
DTSTART:20260308T080000
END:DAYLIGHT
BEGIN:STANDARD
TZOFFSETFROM:-0500
TZOFFSETTO:-0600
TZNAME:CST
DTSTART:20261101T070000
END:STANDARD
END:VTIMEZONE
BEGIN:VEVENT
DTSTART;TZID=America/Chicago:20250221T110000
DTEND;TZID=America/Chicago:20250223T190000
DTSTAMP:20260420T101604
CREATED:20250221T204617Z
LAST-MODIFIED:20250221T204812Z
UID:18770-1740135600-1740337200@paseodelasflores.com
SUMMARY:Feria de motos
DESCRIPTION:¡Preparate para la emoción sobre dos ruedas en la Feria de Motos 2025! 🚀🏍️ \nTe invitamos a un evento lleno de adrenalina y pasión por las motos\, este 21\, 22 y 23 de febrero en Paseo de las Flores. Desde las 10:00 a.m. hasta las 8:00 p.m.\, viví una experiencia única y completamente gratuita. \n¿Qué te espera? \n✨ Exhibición de las últimas novedades del mundo motorizado.\n🎁 Sorprendentes promociones y descuentos exclusivos.\n🤝 Marcas patrocinadoras presentando lo mejor de sus modelos.
URL:https://paseodelasflores.com/eventos/feria-de-motos/
CATEGORIES:Actividades de fin de semana
ATTACH;FMTTYPE=image/jpeg:https://paseodelasflores.com/wp-content/uploads/2025/02/FB.jpg
END:VEVENT
BEGIN:VEVENT
DTSTART;TZID=America/Chicago:20250223T170000
DTEND;TZID=America/Chicago:20250223T180000
DTSTAMP:20260420T101604
CREATED:20250210T164953Z
LAST-MODIFIED:20250210T165037Z
UID:18727-1740330000-1740333600@paseodelasflores.com
SUMMARY:Hagamos Match: Concierto Jorge Chicas
DESCRIPTION:Hagamos Match: Jorge Chicas ✨ \nTe invitamos a nuestros conciertos\, ideales para repartir amor este San Valentín. 💕\n💘 Concierto: Jorge Chicas\n📅 Cuándo:  23 de febrero\, de 5:00 p.m. a 6:00 p.m.\n🎟️ Restricciones: Actividad gratuita con cupo limitado \n¡Nos vemos en este mes del amor y la amistad en Paseo!
URL:https://paseodelasflores.com/eventos/hagamos-match-concierto-jorge-chicas/
LOCATION:Frente a Ekono
CATEGORIES:Actividades de fin de semana
ATTACH;FMTTYPE=image/png:https://paseodelasflores.com/wp-content/uploads/2025/02/Post-FB-3.png
END:VEVENT
END:VCALENDAR