BEGIN:VCALENDAR
VERSION:2.0
PRODID:-//Paseo de las Flores - ECPv6.15.20//NONSGML v1.0//EN
CALSCALE:GREGORIAN
METHOD:PUBLISH
X-WR-CALNAME:Paseo de las Flores
X-ORIGINAL-URL:https://paseodelasflores.com
X-WR-CALDESC:Eventos para Paseo de las Flores
REFRESH-INTERVAL;VALUE=DURATION:PT1H
X-Robots-Tag:noindex
X-PUBLISHED-TTL:PT1H
BEGIN:VTIMEZONE
TZID:America/Chicago
BEGIN:DAYLIGHT
TZOFFSETFROM:-0600
TZOFFSETTO:-0500
TZNAME:CDT
DTSTART:20240310T080000
END:DAYLIGHT
BEGIN:STANDARD
TZOFFSETFROM:-0500
TZOFFSETTO:-0600
TZNAME:CST
DTSTART:20241103T070000
END:STANDARD
BEGIN:DAYLIGHT
TZOFFSETFROM:-0600
TZOFFSETTO:-0500
TZNAME:CDT
DTSTART:20250309T080000
END:DAYLIGHT
BEGIN:STANDARD
TZOFFSETFROM:-0500
TZOFFSETTO:-0600
TZNAME:CST
DTSTART:20251102T070000
END:STANDARD
BEGIN:DAYLIGHT
TZOFFSETFROM:-0600
TZOFFSETTO:-0500
TZNAME:CDT
DTSTART:20260308T080000
END:DAYLIGHT
BEGIN:STANDARD
TZOFFSETFROM:-0500
TZOFFSETTO:-0600
TZNAME:CST
DTSTART:20261101T070000
END:STANDARD
END:VTIMEZONE
BEGIN:VEVENT
DTSTART;TZID=America/Chicago:20250214T190000
DTEND;TZID=America/Chicago:20250214T200000
DTSTAMP:20260420T101405
CREATED:20250210T175618Z
LAST-MODIFIED:20250210T175618Z
UID:18743-1739559600-1739563200@paseodelasflores.com
SUMMARY:Hagamos Match-Música en Wikiped
DESCRIPTION:Hagamos Match: Música en Wikiped ✨ \nTe invitamos a nuestros conciertos\, ideales para repartir amor este San Valentín. 💕\n💘 Concierto: Mariel Salazar\n💘 Restaurante: Wikiped\n📅 Cuándo:  14 de febrero\, de 6:00 p.m. a 8:00 p.m.\n🎟️ Restricciones: Actividad gratuita con cupo limitado \n¡Nos vemos en este mes del amor y la amistad en Paseo!
URL:https://paseodelasflores.com/eventos/hagamos-match-musica-en-wikiped/
LOCATION:WIkiped
CATEGORIES:Actividades de fin de semana
ATTACH;FMTTYPE=image/png:https://paseodelasflores.com/wp-content/uploads/2025/02/Wikiped-Post-FB.png
END:VEVENT
BEGIN:VEVENT
DTSTART;TZID=America/Chicago:20250214T190000
DTEND;TZID=America/Chicago:20250214T210000
DTSTAMP:20260420T101405
CREATED:20250210T172630Z
LAST-MODIFIED:20250210T172630Z
UID:18733-1739559600-1739566800@paseodelasflores.com
SUMMARY:Hagamos Match-Música en Duke´s
DESCRIPTION:Hagamos Match: Música en Duke´s ✨ \nTe invitamos a nuestros conciertos\, ideales para repartir amor este San Valentín. 💕\n💘 Concierto: Willie Muñoz\n💘 Restaurante: Duke´s\n📅 Cuándo:  14 de febrero\, de 7:00 p.m. a 9:00 p.m.\n🎟️ Restricciones: Actividad gratuita con cupo limitado \n¡Nos vemos en este mes del amor y la amistad en Paseo!
URL:https://paseodelasflores.com/eventos/hagamos-match-concierto-musica-en-dukes/
CATEGORIES:Actividades de fin de semana
ATTACH;FMTTYPE=image/png:https://paseodelasflores.com/wp-content/uploads/2025/02/Dukes-Post-FB.png
END:VEVENT
BEGIN:VEVENT
DTSTART;TZID=America/Chicago:20250214T190000
DTEND;TZID=America/Chicago:20250214T210000
DTSTAMP:20260420T101405
CREATED:20250210T173547Z
LAST-MODIFIED:20250210T173547Z
UID:18736-1739559600-1739566800@paseodelasflores.com
SUMMARY:Hagamos Match-Música en Ferroviario
DESCRIPTION:Hagamos Match: Música en Ferroviario ✨ \nTe invitamos a nuestros conciertos\, ideales para repartir amor este San Valentín. 💕\n💘 Concierto: Gaby Lu\n💘 Restaurante: Ferroviario\n📅 Cuándo:  14 de febrero\, de 7:00 p.m. a 9:00 p.m.\n🎟️ Restricciones: Actividad gratuita con cupo limitado \n¡Nos vemos en este mes del amor y la amistad en Paseo!
URL:https://paseodelasflores.com/eventos/hagamos-match-musica-en-ferroviario/
LOCATION:Ferroviario
CATEGORIES:Actividades de fin de semana
ATTACH;FMTTYPE=image/png:https://paseodelasflores.com/wp-content/uploads/2025/02/Ferroviario-Post-FB.png
END:VEVENT
BEGIN:VEVENT
DTSTART;TZID=America/Chicago:20250214T190000
DTEND;TZID=America/Chicago:20250214T210000
DTSTAMP:20260420T101405
CREATED:20250210T173931Z
LAST-MODIFIED:20250210T173931Z
UID:18740-1739559600-1739566800@paseodelasflores.com
SUMMARY:Hagamos Match-Música en Tsunami Sushi
DESCRIPTION:Hagamos Match: Música en Tsunami Sushi ✨ \nTe invitamos a nuestros conciertos\, ideales para repartir amor este San Valentín. 💕\n💘 Concierto: Fio Loa\n💘 Restaurante: Tsunami Sushi\n📅 Cuándo:  14 de febrero\, de 7:00 p.m. a 9:00 p.m.\n🎟️ Restricciones: Actividad gratuita con cupo limitado \n¡Nos vemos en este mes del amor y la amistad en Paseo!
URL:https://paseodelasflores.com/eventos/hagamos-match-musica-en-tsunami-sushi/
CATEGORIES:Actividades de fin de semana
ATTACH;FMTTYPE=image/png:https://paseodelasflores.com/wp-content/uploads/2025/02/Tsunami-Sushi-Post-FB.png
END:VEVENT
END:VCALENDAR