BEGIN:VCALENDAR
VERSION:2.0
PRODID:-//Paseo de las Flores - ECPv6.15.20//NONSGML v1.0//EN
CALSCALE:GREGORIAN
METHOD:PUBLISH
X-ORIGINAL-URL:https://paseodelasflores.com
X-WR-CALDESC:Eventos para Paseo de las Flores
REFRESH-INTERVAL;VALUE=DURATION:PT1H
X-Robots-Tag:noindex
X-PUBLISHED-TTL:PT1H
BEGIN:VTIMEZONE
TZID:America/Chicago
BEGIN:DAYLIGHT
TZOFFSETFROM:-0600
TZOFFSETTO:-0500
TZNAME:CDT
DTSTART:20230312T080000
END:DAYLIGHT
BEGIN:STANDARD
TZOFFSETFROM:-0500
TZOFFSETTO:-0600
TZNAME:CST
DTSTART:20231105T070000
END:STANDARD
BEGIN:DAYLIGHT
TZOFFSETFROM:-0600
TZOFFSETTO:-0500
TZNAME:CDT
DTSTART:20240310T080000
END:DAYLIGHT
BEGIN:STANDARD
TZOFFSETFROM:-0500
TZOFFSETTO:-0600
TZNAME:CST
DTSTART:20241103T070000
END:STANDARD
BEGIN:DAYLIGHT
TZOFFSETFROM:-0600
TZOFFSETTO:-0500
TZNAME:CDT
DTSTART:20250309T080000
END:DAYLIGHT
BEGIN:STANDARD
TZOFFSETFROM:-0500
TZOFFSETTO:-0600
TZNAME:CST
DTSTART:20251102T070000
END:STANDARD
END:VTIMEZONE
BEGIN:VEVENT
DTSTART;TZID=America/Chicago:20241222T150000
DTEND;TZID=America/Chicago:20241222T170000
DTSTAMP:20260420T134047
CREATED:20241202T211530Z
LAST-MODIFIED:20241202T211530Z
UID:18627-1734879600-1734886800@paseodelasflores.com
SUMMARY:Fotos con Santa
DESCRIPTION:Fotos con Santa Claus 🎅✨ \n¡Guardá un recuerdo inolvidable de esta Navidad en Paseo de las Flores! Ven con tu familia y amigos para tomarte la foto con Santa Claus en un ambiente lleno de magia y alegría. \n📅 Cuándo: Fotos con Santa 22 de diciembre\, de 3:00 p.m. a 5:00 p.m |📍 Ubicación: Área Tulipán\, Paseo de las Flores | 🎟️ Restricciones: Actividad gratuita con cupo limitado \n¡Te esperamos para compartir 20 años de navidades juntos! 🎄
URL:https://paseodelasflores.com/eventos/fotos-con-santa-13/
LOCATION:Rotonda Tulipán
CATEGORIES:20 Navidades Juntos
ATTACH;FMTTYPE=image/png:https://paseodelasflores.com/wp-content/uploads/2024/11/4.png
END:VEVENT
BEGIN:VEVENT
DTSTART;TZID=America/Chicago:20241222T150000
DTEND;TZID=America/Chicago:20241222T170000
DTSTAMP:20260420T134047
CREATED:20241202T212014Z
LAST-MODIFIED:20241202T212014Z
UID:18639-1734879600-1734886800@paseodelasflores.com
SUMMARY:Talleres Navideños
DESCRIPTION:Talleres Navideños 🎨✨ \n¡Despierta tu creatividad en nuestros talleres navideños! Únete a nosotros y diviértete decorando y creando lindos detalles para esta época mágica. \n📅 Cuándo: 22 de diciembre\, de 3:00 p.m. a 5:00 p.m.\n🎟️ Restricciones: Actividad gratuita con cupo limitado \n¡Ven a celebrar 20 años de navidades juntos y a crear recuerdos únicos! 🎄
URL:https://paseodelasflores.com/eventos/talleres-navidenos-12/
CATEGORIES:20 Navidades Juntos
ATTACH;FMTTYPE=image/png:https://paseodelasflores.com/wp-content/uploads/2024/11/4-1.png
END:VEVENT
BEGIN:VEVENT
DTSTART;TZID=America/Chicago:20241222T150000
DTEND;TZID=America/Chicago:20241222T170000
DTSTAMP:20260420T134047
CREATED:20241202T214612Z
LAST-MODIFIED:20241202T215013Z
UID:18648-1734879600-1734886800@paseodelasflores.com
SUMMARY:Happenings
DESCRIPTION:Happenings ✨ \n¡Despierta tu espiritu navideño! Únete a nosotros y disfruta de la música de los happenings navideños. \n📅 Cuándo: 22 de diciembre\, de 3:00 p.m. a 5:00 p.m.\n🎟️ Restricciones: Actividad gratuita con cupo limitado \n¡Ven a celebrar 20 años de navidades juntos y a crear recuerdos únicos! 🎄
URL:https://paseodelasflores.com/eventos/happenings-3/
CATEGORIES:20 Navidades Juntos
ATTACH;FMTTYPE=image/jpeg:https://paseodelasflores.com/wp-content/uploads/2024/12/DSCF2951-scaled-e1733175764924.jpg
END:VEVENT
END:VCALENDAR