BEGIN:VCALENDAR
VERSION:2.0
PRODID:-//Paseo de las Flores - ECPv6.15.20//NONSGML v1.0//EN
CALSCALE:GREGORIAN
METHOD:PUBLISH
X-WR-CALNAME:Paseo de las Flores
X-ORIGINAL-URL:https://paseodelasflores.com
X-WR-CALDESC:Eventos para Paseo de las Flores
REFRESH-INTERVAL;VALUE=DURATION:PT1H
X-Robots-Tag:noindex
X-PUBLISHED-TTL:PT1H
BEGIN:VTIMEZONE
TZID:America/Chicago
BEGIN:DAYLIGHT
TZOFFSETFROM:-0600
TZOFFSETTO:-0500
TZNAME:CDT
DTSTART:20230312T080000
END:DAYLIGHT
BEGIN:STANDARD
TZOFFSETFROM:-0500
TZOFFSETTO:-0600
TZNAME:CST
DTSTART:20231105T070000
END:STANDARD
BEGIN:DAYLIGHT
TZOFFSETFROM:-0600
TZOFFSETTO:-0500
TZNAME:CDT
DTSTART:20240310T080000
END:DAYLIGHT
BEGIN:STANDARD
TZOFFSETFROM:-0500
TZOFFSETTO:-0600
TZNAME:CST
DTSTART:20241103T070000
END:STANDARD
BEGIN:DAYLIGHT
TZOFFSETFROM:-0600
TZOFFSETTO:-0500
TZNAME:CDT
DTSTART:20250309T080000
END:DAYLIGHT
BEGIN:STANDARD
TZOFFSETFROM:-0500
TZOFFSETTO:-0600
TZNAME:CST
DTSTART:20251102T070000
END:STANDARD
END:VTIMEZONE
BEGIN:VEVENT
DTSTART;TZID=America/Chicago:20241201T150000
DTEND;TZID=America/Chicago:20241201T150000
DTSTAMP:20260420T133724
CREATED:20241105T061710Z
LAST-MODIFIED:20241106T153838Z
UID:18518-1733065200-1733065200@paseodelasflores.com
SUMMARY:Fotos con Santa
DESCRIPTION:Fotos con Santa Claus 🎅✨ \n¡Guardá un recuerdo inolvidable de esta Navidad en Paseo de las Flores! Ven con tu familia y amigos para tomarte la foto con Santa Claus en un ambiente lleno de magia y alegría. \n📅 Cuándo: Fotos con Santa 1 de diciembre\, de 3:00 p.m. a 5:00 p.m |📍 Ubicación: Área Tulipán\, Paseo de las Flores | 🎟️ Restricciones: Actividad gratuita con cupo limitado \n¡Te esperamos para compartir 20 años de navidades juntos! 🎄
URL:https://paseodelasflores.com/eventos/fotos-con-santa-7/
LOCATION:Rotonda Tulipán
CATEGORIES:20 Navidades Juntos
ATTACH;FMTTYPE=image/png:https://paseodelasflores.com/wp-content/uploads/2024/11/4.png
END:VEVENT
BEGIN:VEVENT
DTSTART;TZID=America/Chicago:20241201T170000
DTEND;TZID=America/Chicago:20241201T180000
DTSTAMP:20260420T133724
CREATED:20241115T194957Z
LAST-MODIFIED:20241115T194957Z
UID:18600-1733072400-1733076000@paseodelasflores.com
SUMMARY:Show de Navideño
DESCRIPTION:✨Show de navideño✨ \n¡Celebrá la navidad disfrutando en familia del show navideño \n📅 Cuándo: 1 de diciembre\, de 5:00 p.m. a 6:00 p.m.\n📍 Ubicación: Frente a Van Heusen\n🎟️ Restricciones: Actividad gratuita \n¡20 Navidades Juntos! 🎄
URL:https://paseodelasflores.com/eventos/show-de-navideno-3/
CATEGORIES:20 Navidades Juntos
ATTACH;FMTTYPE=image/png:https://paseodelasflores.com/wp-content/uploads/2024/11/2.png
END:VEVENT
END:VCALENDAR