BEGIN:VCALENDAR
VERSION:2.0
PRODID:-//Paseo de las Flores - ECPv6.15.20//NONSGML v1.0//EN
CALSCALE:GREGORIAN
METHOD:PUBLISH
X-ORIGINAL-URL:https://paseodelasflores.com
X-WR-CALDESC:Eventos para Paseo de las Flores
REFRESH-INTERVAL;VALUE=DURATION:PT1H
X-Robots-Tag:noindex
X-PUBLISHED-TTL:PT1H
BEGIN:VTIMEZONE
TZID:America/Chicago
BEGIN:DAYLIGHT
TZOFFSETFROM:-0600
TZOFFSETTO:-0500
TZNAME:CDT
DTSTART:20230312T080000
END:DAYLIGHT
BEGIN:STANDARD
TZOFFSETFROM:-0500
TZOFFSETTO:-0600
TZNAME:CST
DTSTART:20231105T070000
END:STANDARD
BEGIN:DAYLIGHT
TZOFFSETFROM:-0600
TZOFFSETTO:-0500
TZNAME:CDT
DTSTART:20240310T080000
END:DAYLIGHT
BEGIN:STANDARD
TZOFFSETFROM:-0500
TZOFFSETTO:-0600
TZNAME:CST
DTSTART:20241103T070000
END:STANDARD
BEGIN:DAYLIGHT
TZOFFSETFROM:-0600
TZOFFSETTO:-0500
TZNAME:CDT
DTSTART:20250309T080000
END:DAYLIGHT
BEGIN:STANDARD
TZOFFSETFROM:-0500
TZOFFSETTO:-0600
TZNAME:CST
DTSTART:20251102T070000
END:STANDARD
END:VTIMEZONE
BEGIN:VEVENT
DTSTART;TZID=America/Chicago:20241124T150000
DTEND;TZID=America/Chicago:20241124T170000
DTSTAMP:20260420T151016
CREATED:20241105T061613Z
LAST-MODIFIED:20241106T153922Z
UID:18514-1732460400-1732467600@paseodelasflores.com
SUMMARY:Fotos con Santa
DESCRIPTION:Fotos con Santa Claus 🎅✨ \n¡Guardá un recuerdo inolvidable de esta Navidad en Paseo de las Flores! Ven con tu familia y amigos para tomarte la foto con Santa Claus en un ambiente lleno de magia y alegría. \n📅 Cuándo: Fotos con Santa 24 de noviembre\, de 3:00 p.m. a 5:00 p.m \n📍 Ubicación: Área Tulipán\, Paseo de las Flores \n🎟️ Restricciones: Actividad gratuita con cupo limitado \n¡Te esperamos para compartir 20 años de navidades juntos! 🎄
URL:https://paseodelasflores.com/eventos/fotos-con-santa-5/
LOCATION:Rotonda Tulipán
CATEGORIES:20 Navidades Juntos
ATTACH;FMTTYPE=image/png:https://paseodelasflores.com/wp-content/uploads/2024/11/4.png
END:VEVENT
BEGIN:VEVENT
DTSTART;TZID=America/Chicago:20241124T150000
DTEND;TZID=America/Chicago:20241124T170000
DTSTAMP:20260420T151016
CREATED:20241106T152813Z
LAST-MODIFIED:20241106T153917Z
UID:18545-1732460400-1732467600@paseodelasflores.com
SUMMARY:Talleres Navideños
DESCRIPTION:Talleres Navideños 🎨✨ \n¡Despierta tu creatividad en nuestros talleres navideños! Únete a nosotros y diviértete decorando y creando lindos detalles para esta época mágica. \n📅 Cuándo: \n\nInauguración: 24 de noviembre\, de 3:00 p.m. a 5:00 p.m.\nTodos los fines de semana de noviembre y diciembre\, de 3:00 p.m. a 5:00 p.m.\n\n📍 Ubicación: Frente a Miniso\, Paseo de las Flores\n🎟️ Restricciones: Actividad gratuita con cupo limitado \n¡Ven a celebrar 20 años de navidades juntos y a crear recuerdos únicos! 🎄
URL:https://paseodelasflores.com/eventos/talleres-navidenos-5/
LOCATION:Frente a Miniso
CATEGORIES:20 Navidades Juntos
ATTACH;FMTTYPE=image/png:https://paseodelasflores.com/wp-content/uploads/2024/11/4-1.png
END:VEVENT
BEGIN:VEVENT
DTSTART;TZID=America/Chicago:20241124T170000
DTEND;TZID=America/Chicago:20241124T180000
DTSTAMP:20260420T151016
CREATED:20241115T194851Z
LAST-MODIFIED:20241115T194851Z
UID:18598-1732467600-1732471200@paseodelasflores.com
SUMMARY:Show de Navideño
DESCRIPTION:✨Show de navideño✨ \n¡Celebrá la navidad disfrutando en familia del show navideño \n📅 Cuándo: 24 de noviembre\, de 5:00 p.m. a 6:00 p.m.\n📍 Ubicación: Frente a Van Heusen\n🎟️ Restricciones: Actividad gratuita \n¡20 Navidades Juntos! 🎄
URL:https://paseodelasflores.com/eventos/show-de-navideno-2/
CATEGORIES:20 Navidades Juntos
ATTACH;FMTTYPE=image/png:https://paseodelasflores.com/wp-content/uploads/2024/11/2.png
END:VEVENT
END:VCALENDAR